BEGIN:VCALENDAR
PRODID:brasil.gov.agenda
VERSION:1.0
BEGIN:VEVENT
DTSTART:20230306T120000Z
DTEND:20230306T160000Z
DCREATED:20230306T142332Z
UID:Compromisso-f48fab98d27147c4a8e484350c71d136
SEQUENCE:0
LAST-MODIFIED:20230306T142332Z
SUMMARY:Despachos Internos
LOCATION:Por Videoconferência
PRIORITY:3
TRANSP:0
END:VEVENT
END:VCALENDAR
