BEGIN:VCALENDAR
PRODID:brasil.gov.agenda
VERSION:1.0
BEGIN:VEVENT
DTSTART:20230602T110000Z
DTEND:20230602T200000Z
DCREATED:20230531T150141Z
UID:Compromisso-121286e9212f4f9c964d5f039948be2a
SEQUENCE:0
LAST-MODIFIED:20230531T150141Z
SUMMARY:Despachos Internos
LOCATION:Agência Nacional do Petróleo-ANP
PRIORITY:3
TRANSP:0
END:VEVENT
END:VCALENDAR
