BEGIN:VCALENDAR
PRODID:brasil.gov.agenda
VERSION:1.0
BEGIN:VEVENT
DTSTART:20170524T030000Z
DTEND:20170524T030000Z
DCREATED:20201103T175620Z
UID:Compromisso-82fc14b47a4a8bd7c857021efd7f6cb607d72547
SEQUENCE:0
LAST-MODIFIED:20201103T175621Z
SUMMARY:Reunião do Conselho Diretor
LOCATION:Reunião do Microsoft Teams
PRIORITY:3
TRANSP:0
END:VEVENT
END:VCALENDAR
