BEGIN:VCALENDAR
PRODID:brasil.gov.agenda
VERSION:1.0
BEGIN:VEVENT
DTSTART:20220712T180000Z
DTEND:20220712T200000Z
DCREATED:20220628T115021Z
UID:Compromisso-0a0314363ca94fd8a4843a1f66ab2f0f
SEQUENCE:0
LAST-MODIFIED:20220628T115021Z
SUMMARY:64ª reunião do GAOPS
LOCATION:www.youtube.com/anagovbr
PRIORITY:3
TRANSP:0
END:VEVENT
END:VCALENDAR
