BEGIN:VCALENDAR
PRODID:brasil.gov.agenda
VERSION:1.0
BEGIN:VEVENT
DTSTART:20220725T173000Z
DTEND:20220725T183000Z
DCREATED:20220722T204243Z
UID:Compromisso-45b285956a304118b962a76451a23599
SEQUENCE:0
LAST-MODIFIED:20220722T204244Z
SUMMARY:Despacho Interno
DESCRIPTION:Condicionante Outorga PISF
LOCATION:Videoconferência
PRIORITY:3
TRANSP:0
END:VEVENT
END:VCALENDAR
