BEGIN:VCALENDAR
PRODID:brasil.gov.agenda
VERSION:1.0
BEGIN:VEVENT
DTSTART:20241105T193000Z
DTEND:20241105T210000Z
DCREATED:20241106T193913Z
UID:Compromisso-fb22e2b2708f42f69e912bf04cb7614c
SEQUENCE:0
LAST-MODIFIED:20241106T193913Z
SUMMARY:despacho interno
DESCRIPTION:assuntos e processos de interesse do departamento
LOCATION:Advocacia - Geral da União - AGU no endereço: SAS - Quadra 3\, Lote 05/06 Ed. Sede I Multibrasil Corporate\, Sala 1215 – 12° andar - CGU
PRIORITY:3
TRANSP:0
END:VEVENT
END:VCALENDAR
