BEGIN:VCALENDAR
PRODID:brasil.gov.agenda
VERSION:1.0
BEGIN:VEVENT
DTSTART:20240920T170000Z
DTEND:20240920T210000Z
DCREATED:20240923T194537Z
UID:Compromisso-5689f24942de4245a4e79148b6810858
SEQUENCE:0
LAST-MODIFIED:20240923T194537Z
SUMMARY:despacho interno
DESCRIPTION:assuntos e processos de interesse do departamento
LOCATION:Advocacia - Geral da União - AGU no endereço: SAS - Quadra 3\, Lote 05/06 Ed. Sede I Multibrasil Corporate\, Sala 1215 – 12° andar - CGU
PRIORITY:3
TRANSP:0
END:VEVENT
END:VCALENDAR
