BEGIN:VCALENDAR
PRODID:brasil.gov.agenda
VERSION:1.0
BEGIN:VEVENT
DTSTART:20241204T130000Z
DTEND:20241204T150000Z
DCREATED:20241203T134107Z
UID:Compromisso-27e7acc5a94c4a39bcd6070c7e5565ec
SEQUENCE:0
LAST-MODIFIED:20241203T134107Z
SUMMARY:Despacho interno
LOCATION:GAB/PGU
PRIORITY:3
TRANSP:0
END:VEVENT
END:VCALENDAR
