BEGIN:VCALENDAR
PRODID:brasil.gov.agenda
VERSION:1.0
BEGIN:VEVENT
DTSTART:20260324T190000Z
DTEND:20260324T200000Z
DCREATED:20260409T214220Z
UID:Compromisso-562dc25e04bf47a2862325103b9ae077
SEQUENCE:0
LAST-MODIFIED:20260409T214221Z
SUMMARY:Alinhamento processos CADE e PRF-6"
LOCATION:Reunião do Microsoft Teams
PRIORITY:3
TRANSP:0
END:VEVENT
END:VCALENDAR
