BEGIN:VCALENDAR
PRODID:brasil.gov.agenda
VERSION:1.0
BEGIN:VEVENT
DTSTART:20250612T110000Z
DTEND:20250612T150000Z
DCREATED:20250612T212215Z
UID:Compromisso-2cedeef3165e46c8a94cfb1593c7ee1b
SEQUENCE:0
LAST-MODIFIED:20250612T212215Z
SUMMARY:Despacho Interno
LOCATION:Microsoft Teams.
PRIORITY:3
TRANSP:0
END:VEVENT
END:VCALENDAR
