BEGIN:VCALENDAR
PRODID:brasil.gov.agenda
VERSION:1.0
BEGIN:VEVENT
DTSTART:20250609T170000Z
DTEND:20250609T210000Z
DCREATED:20250612T210300Z
UID:Compromisso-f960ec2c9d1448a9a7299bbf506392e3
SEQUENCE:0
LAST-MODIFIED:20250612T210300Z
SUMMARY:Despacho Interno
LOCATION:Microsoft Teams.
PRIORITY:3
TRANSP:0
END:VEVENT
END:VCALENDAR
