BEGIN:VCALENDAR
PRODID:brasil.gov.agenda
VERSION:1.0
BEGIN:VEVENT
DTSTART:20260331T110000Z
DTEND:20260331T130000Z
DCREATED:20260331T192807Z
UID:Compromisso-80447cf767cc4a1bbdecb148732b3641
SEQUENCE:0
LAST-MODIFIED:20260331T192807Z
SUMMARY:Despachos Internos
LOCATION:Microsoft Teams
PRIORITY:3
TRANSP:0
END:VEVENT
END:VCALENDAR
