BEGIN:VCALENDAR
PRODID:brasil.gov.agenda
VERSION:1.0
BEGIN:VEVENT
DTSTART:20250507T173000Z
DTEND:20250507T213000Z
DCREATED:20250512T165727Z
UID:Compromisso-d5955c19ec9249eab819333f8fe031a8
SEQUENCE:0
LAST-MODIFIED:20250512T165727Z
SUMMARY:Fórum de Regulação
DESCRIPTION:Fórum de Regulação
LOCATION:Auditório da Agência Nacional de Aviação Civil (ANAC) -SCS Qd 09 - Lote C - Ed. Parque Cidade Corporate - Torre A - 1° Andar - Brasilia/DF.
PRIORITY:3
TRANSP:0
END:VEVENT
END:VCALENDAR
