BEGIN:VCALENDAR
PRODID:brasil.gov.agenda
VERSION:1.0
BEGIN:VEVENT
DTSTART:20260326T130000Z
DTEND:20260326T160000Z
DCREATED:20260330T181259Z
UID:Compromisso-07bf92117f4a4feab0eccb3044979f37
SEQUENCE:0
LAST-MODIFIED:20260330T181301Z
SUMMARY:Reuniões internas
LOCATION:Advocacia-Geral da União
PRIORITY:3
TRANSP:0
END:VEVENT
END:VCALENDAR
