BEGIN:VCALENDAR
PRODID:brasil.gov.agenda
VERSION:1.0
BEGIN:VEVENT
DTSTART:20251022T123000Z
DTEND:20251022T030000Z
DCREATED:20251022T191731Z
UID:Compromisso-ab82d620f10440e8800f40458891e3b8
SEQUENCE:0
LAST-MODIFIED:20251022T191731Z
SUMMARY:Receber a Comenda de Grão-Colar e compor a Mesa da Ordem do Mérito da Defensoria Pública da União
LOCATION:Auditório do Ministério do Trabalho e Emprego
PRIORITY:3
TRANSP:0
END:VEVENT
END:VCALENDAR
