BEGIN:VCALENDAR
PRODID:brasil.gov.agenda
VERSION:1.0
BEGIN:VEVENT
DTSTART:20230626T030000Z
DTEND:20230626T030000Z
DCREATED:20230626T122601Z
UID:Compromisso-4bdcff3c7bd24385940a7eadd5e7549f
SEQUENCE:0
LAST-MODIFIED:20230626T122601Z
SUMMARY:XI Fórum Jurídico de Lisboa
LOCATION:Lisboa - Portugal
PRIORITY:3
TRANSP:0
END:VEVENT
END:VCALENDAR
