BEGIN:VCALENDAR
PRODID:brasil.gov.agenda
VERSION:1.0
BEGIN:VEVENT
DTSTART:20230410T200000Z
DTEND:20230410T210000Z
DCREATED:20230412T121617Z
UID:Compromisso-6caac14d1cda4998a50fab4c7cb3c020
SEQUENCE:0
LAST-MODIFIED:20230412T121617Z
SUMMARY:Despacho interno
LOCATION:AGU
PRIORITY:3
TRANSP:0
END:VEVENT
END:VCALENDAR
