BEGIN:VCALENDAR
PRODID:brasil.gov.agenda
VERSION:1.0
BEGIN:VEVENT
DTSTART:20250131T120000Z
DTEND:20250131T150000Z
DCREATED:20250217T175331Z
UID:Compromisso-4d199dad17284636a8d18e3c5c4597ea
SEQUENCE:0
LAST-MODIFIED:20250217T175331Z
SUMMARY:Reuniões Internas
LOCATION:Advocacia-Geral da União
PRIORITY:3
TRANSP:0
END:VEVENT
END:VCALENDAR
