Workbook
Name ativ: #REF!
Name cat: #REF!
Name dec: OFFSET(#REF!,0,0,COUNTA(#REF!)-1,1)
Name decb: OFFSET(#REF!,0,0,COUNTA(#REF!)-1,2)
Name esp: OFFSET(Espécies!$A$1,0,0,COUNTA(Espécies!$A:$A)-1,1)
Name espec: Espécies!$A$1:$A$109
Name Excel_BuiltIn__FilterDatabase_9: Espécies!$A$1:$A$109
Name fsimples: 'F Simples'!$A$6:$B$195
Name fsimplesb: 'F Simples'!$A$6:$A$195
Name gar: OFFSET(Garantias!$A$5,0,0,COUNTA(Garantias!$A:$A)-1,1)
Name garb: OFFSET(Garantias!$A$5,0,0,COUNTA(Garantias!$A:$B)-1,2)
Name ma: Produtos!$A$49:$B$55
Name mab: Produtos!$A$49:$A$55
Name mp: 'Matérias-primas'!$A$5:$B$645
Name mpb: 'Matérias-primas'!$A$5:$A$645
Name nf: Produtos!$A$46:$B$47
Name nfb: Produtos!$A$46:$A$47
Name pa: Países!$A$5:$B$220
Name pab: Países!$A$5:$A$220
Name prod: Produtos!$A$6:$B$44
Name prodb: Produtos!$A$6:$A$44

Sheet Requerimento
A1: Instruções para o Preenchimento deste Formulário de Requerimento:
A3: MINISTÉRIO DA AGRICULTURA, PECUÁRIA E DO ABASTECIMENTO | AQ3: REGISTRO DE PRODUTO
A4: SUPERINTENDÊNCIA FEDERAL DE AGRICULTURA
A5: REQUERIMENTO DE REGISTRO DE PRODUTO
AQ7: USO EXCLUSIVO DO MAPA
A10: 1 - IDENTIFICAÇÃO DO ESTABELECIMENTO PRODUTOR OU IMPORTADOR
A11: NOME OU NOME EMPRESARIAL | AW11: REGISTRO DO ESTABELECIMENTO
B13: ENDEREÇO
B15: CAIXA POSTAL | R15: MUNICÍPIO | AR15: UF | AV15: CEP
B17: CNPJ | P17: E-MAIL (Para recebimento de comunicados do MAPA) | AM17: FONE: | AZ17: FAX:
CO20: CLASSIFICAÇÃO DE PRODUTOS
A21: 2 - IDENTIFICAÇÃO DO PRODUTO
B23: CÓDIGO | H23: CLASSIFICAÇÃO
B24: =IF(H24=0," ",VLOOKUP(H24,prod,2,0))
B25: SE MINERAL SIMPLES, O NOME DESTE CONFORME ANEXO I DA IN Nº 39/2018
B26: CÓDIGO | I26: NOME
B27: =IF(I27=0," ",VLOOKUP(I27,fsimples,2,0))
A29: 3 - CARACTERIZAÇÃO DO PRODUTO
A31: CÓDIGO | F31: MODO DE APLICAÇÃO | AC31: CÓDIGO | AF31: NATUREZA FÍSICA | AO31: PRODUTO PRONTO USO | BA31: DENSIDADE DO FLUIDO
B33: =IF(F33=0," ",VLOOKUP(F33,ma,2,0)) | AB33: =IF(AF33=0," ",VLOOKUP(AF33,nf,2)) | AR33: SIM | AV33: NÃO
B35: =IF(F35=0," ",VLOOKUP(F35,ma,2,0)) | AB35: INFORMAR A CULTURA, SE MODO APLICAÇÃO VIA SEMENTE | BC35: =1000*BA33 -> 0
B37: =IF(F37=0," ",VLOOKUP(F37,ma,2,0))
A39: 4 - MATÉRIAS PRIMAS/COMPONENTES (COMPOSIÇÃO EM PARTES POR MIL)
A40: CÓDIGO | B40: CÓDIGO | J40: DENOMINAÇÃO | AO40: TEORES DE NUTRIENTES | BI40: Kg / tonelada
B41: =IF(ISERROR(VLOOKUP(H41,mp,2,FALSE)),0,VLOOKUP(H41,mp,2,FALSE)) -> 0
B42: =IF(ISERROR(VLOOKUP(H42,mp,2,FALSE)),0,VLOOKUP(H42,mp,2,FALSE)) -> 0
B43: =IF(ISERROR(VLOOKUP(H43,mp,2,FALSE)),0,VLOOKUP(H43,mp,2,FALSE)) -> 0
B44: =IF(ISERROR(VLOOKUP(H44,mp,2,FALSE)),0,VLOOKUP(H44,mp,2,FALSE)) -> 0
B45: =IF(ISERROR(VLOOKUP(H45,mp,2,FALSE)),0,VLOOKUP(H45,mp,2,FALSE)) -> 0
B46: =IF(ISERROR(VLOOKUP(H46,mp,2,FALSE)),0,VLOOKUP(H46,mp,2,FALSE)) -> 0
B47: =IF(ISERROR(VLOOKUP(H47,mp,2,FALSE)),0,VLOOKUP(H47,mp,2,FALSE)) -> 0
B48: =IF(ISERROR(VLOOKUP(H48,mp,2,FALSE)),0,VLOOKUP(H48,mp,2,FALSE)) -> 0
B49: =IF(ISERROR(VLOOKUP(H49,mp,2,FALSE)),0,VLOOKUP(H49,mp,2,FALSE)) -> 0
B50: =IF(ISERROR(VLOOKUP(H50,mp,2,FALSE)),0,VLOOKUP(H50,mp,2,FALSE)) -> 0
B51: =IF(ISERROR(VLOOKUP(H51,mp,2,FALSE)),0,VLOOKUP(H51,mp,2,FALSE)) -> 0
B52: =IF(ISERROR(VLOOKUP(H52,mp,2,FALSE)),0,VLOOKUP(H52,mp,2,FALSE)) -> 0
B53: =IF(ISERROR(VLOOKUP(H53,mp,2,FALSE)),0,VLOOKUP(H53,mp,2,FALSE)) -> 0
B54: TOTAL | BG54: =IF(SUM(BG41:BG53)=1000,1000,"ERRO") -> ERRO
A55: 5 - GARANTIAS OBRIGATÓRIAS A CONSTAR NO CERTIFICADO DE REGISTRO DO PRODUTO
B56: CÓDIGO | G56: DENOMINAÇÃO | AB56: QUANT. | AH56: CÓDIGO | AM56: DENOMINAÇÃO | BH56: QUANT.
B57: =IF(ISERROR(VLOOKUP(G57,Garantias!$A5:$B83,2,FALSE)),0,VLOOKUP(G57,Garantias!$A5:$B83,2,FALSE)) -> 0 | AH57: =IF(ISERROR(VLOOKUP(AM57,Garantias!$A5:$B83,2,FALSE)),0,VLOOKUP(AM57,Garantias!$A5:$B83,2,FALSE)) -> 0
B58: =IF(ISERROR(VLOOKUP(G58,Garantias!$A7:$B84,2,FALSE)),0,VLOOKUP(G58,Garantias!$A7:$B84,2,FALSE)) -> 0 | AH58: =IF(ISERROR(VLOOKUP(AM58,Garantias!$A7:$B84,2,FALSE)),0,VLOOKUP(AM58,Garantias!$A7:$B84,2,FALSE)) -> 0
B59: =IF(ISERROR(VLOOKUP(G59,Garantias!$A10:$B85,2,FALSE)),0,VLOOKUP(G59,Garantias!$A10:$B85,2,FALSE)) -> 0 | AH59: =IF(ISERROR(VLOOKUP(AM59,Garantias!$A10:$B85,2,FALSE)),0,VLOOKUP(AM59,Garantias!$A10:$B85,2,FALSE)) -> 0
B60: =IF(ISERROR(VLOOKUP(G60,Garantias!$A11:$B86,2,FALSE)),0,VLOOKUP(G60,Garantias!$A11:$B86,2,FALSE)) -> 0 | AH60: =IF(ISERROR(VLOOKUP(AM60,Garantias!$A11:$B86,2,FALSE)),0,VLOOKUP(AM60,Garantias!$A11:$B86,2,FALSE)) -> 0
B61: =IF(ISERROR(VLOOKUP(G61,Garantias!$A12:$B87,2,FALSE)),0,VLOOKUP(G61,Garantias!$A12:$B87,2,FALSE)) -> 0 | AH61: =IF(ISERROR(VLOOKUP(AM61,Garantias!$A12:$B87,2,FALSE)),0,VLOOKUP(AM61,Garantias!$A12:$B87,2,FALSE)) -> 0
B62: =IF(ISERROR(VLOOKUP(G62,Garantias!$A13:$B88,2,FALSE)),0,VLOOKUP(G62,Garantias!$A13:$B88,2,FALSE)) -> 0 | AH62: =IF(ISERROR(VLOOKUP(AM62,Garantias!$A13:$B88,2,FALSE)),0,VLOOKUP(AM62,Garantias!$A13:$B88,2,FALSE)) -> 0
B64: INOCULANTES
B65: Nº DA ESTIRPE NA COLEÇÃO OFICIAL | AQ65: CONCENTRAÇÃO (Células/g ou ml)
B68: DOSAGEM (ml ou g/50 Kg sementes) | W68: CULTURA A QUE SE DESTINA
A72: 6 - PARA PRODUTO IMPORTADO, INFORMAR TAMBÉM:
B73: CÓDIGO PAÍS | J73: NOME DO PAÍS DE ORIGEM | AC73: NOME DA EMPRESA PRODUTORA
B74: =IF(J74=0," ",VLOOKUP(J74,pa,2))
B75: Anexar certificado de análise, certificado de registro ou de livre comércio, emitidos por órgão competente do país de origem.
B78: ( X ) | D78: Declaramos que não possuímos e nem solicitamos, em nenhuma outra filial da empresa, o registro de produto acima especificado
P80: ___/___/____
B82: Local | Q82: Data | AF82: Assinatura do Responsável
AG84: Nome:
AG85: Cargo/Função:
A87: 7 - ANÁLISE DO REQUERIMENTO DE REGISTRO | X87: USO EXCLUSIVO DO MINISTÉRIO
B89: ( ) | D89: Indeferido. Motivo:
B91: ( ) | D91: Opinamos pela concessão deste registro, visto que atende a legislação em vigor.
P93: ___/___/____
AJ94: Assinatura e Carimbo do Fiscal
B95: Local | Q95: Data

Sheet Exemplo FMS
A1: Instruções para o Preenchimento deste Formulário de Requerimento:
A2: - Prencher todos os campos necessários;
A3: - As células que contém opções pré-definidas, ao serem selecionadas, apresentam uma seta no lado direito da mesma, que abre a caixa Dropdown;
A4: - Ler atentamente os comentários que aparecem ao se colocar o mouse sobre determinas células (células com uma marca vermelha no canto superior direito);
A5: - Quando o ítem é selecionado na caixa de listagem, o código é preenchido automaticamente no respectivo campo. Quando não houver o ítem na lista, deixar o campo do código em branco;
A6: - Observar os Exemplos constantes nas planilhas Exemplo FMS (Fertilizante Mineral Simples) e Exemplo FMM (Fertilizante Mineral Misto);
A12: MINISTÉRIO DA AGRICULTURA, PECUÁRIA E DO ABASTECIMENTO | AQ12: REGISTRO DE PRODUTO
A13: SUPERINTENDÊNCIA FEDERAL DE AGRICULTURA
A14: REQUERIMENTO DE REGISTRO DE PRODUTO
AQ16: USO EXCLUSIVO DO MAPA
A19: 1 - IDENTIFICAÇÃO DO ESTABELECIMENTO PRODUTOR OU IMPORTADOR
A20: NOME OU NOME EMPRESARIAL | AW20: REGISTRO DO ESTABELECIMENTO
B21: FIC Fertilizantes Ltda. | AW21: RS 00000-0
B22: ENDEREÇO DO ESTABELECIMENTO | AO22: MUNICÍPIO | BI22: UF
B23: Av. XYZ, n. 123
B24: CNPJ | P24: E-MAIL | AU24: FONE:
B25: 00.000.000/0000-00 | P25: fic@fic.com.br | AU25: (51) 12001200
CO27: CLASSIFICAÇÃO DE PRODUTOS
A28: 2 - IDENTIFICAÇÃO DO PRODUTO
B30: CÓDIGO | H30: CLASSIFICAÇÃO
B31: =IF(H31=0," ",VLOOKUP(H31,prod,2,0)) -> 2357 | H31: Fertilizante Mineral Simples
B32: SE MINERAL SIMPLES, O NOME DESTE CONFORME ANEXO I DA IN Nº 39/2018
B33: CÓDIGO | I33: NOME
B34: =IF(I34=0," ",VLOOKUP(I34,fsimples,2,0)) -> 123 | I34: SUPERFOSFATO TRIPLO
A36: 3 - CARACTERIZAÇÃO DO PRODUTO
A38: CÓDIGO | F38: MODO DE APLICAÇÃO | AC38: CÓDIGO | AF38: NATUREZA FÍSICA | AO38: PRODUTO PRONTO USO | BA38: DENSIDADE DO FLUIDO
B40: =IF(F40=0," ",VLOOKUP(F40,ma,2,0)) -> 2 | F40: Via Solo | AB40: =IF(AF40=0," ",VLOOKUP(AF40,nf,2)) -> 18 | AF40: Sólido | AR40: SIM | AU40: x | AV40: NÃO
B42: =IF(F42=0," ",VLOOKUP(F42,ma,2,0)) | BC42: =1000*BA40 -> 0
B44: =IF(F44=0," ",VLOOKUP(F44,ma,2,0))
A46: 4 - MATÉRIAS PRIMAS/COMPONENTES (COMPOSIÇÃO EM PARTES POR MIL)
A47: CÓDIGO | B47: CÓDIGO | J47: DENOMINAÇÃO | AO47: TEORES DE NUTRIENTES | BI47: Kg / tonelada
B48: =IF(ISERROR(VLOOKUP(H48,mp,2,FALSE)),0,VLOOKUP(H48,mp,2,FALSE)) -> 6142 | H48: ACIDO FOSFORICO
B49: =IF(ISERROR(VLOOKUP(H49,mp,2,FALSE)),0,VLOOKUP(H49,mp,2,FALSE)) -> 6157 | H49: CONCENTRADO APATITICO
B50: =IF(ISERROR(VLOOKUP(H50,mp,2,FALSE)),0,VLOOKUP(H50,mp,2,FALSE)) -> 0
B51: =IF(ISERROR(VLOOKUP(H51,mp,2,FALSE)),0,VLOOKUP(H51,mp,2,FALSE)) -> 0
B52: =IF(ISERROR(VLOOKUP(H52,mp,2,FALSE)),0,VLOOKUP(H52,mp,2,FALSE)) -> 0
B53: =IF(ISERROR(VLOOKUP(H53,mp,2,FALSE)),0,VLOOKUP(H53,mp,2,FALSE)) -> 0
B54: =IF(ISERROR(VLOOKUP(H54,mp,2,FALSE)),0,VLOOKUP(H54,mp,2,FALSE)) -> 0
B55: =IF(ISERROR(VLOOKUP(H55,mp,2,FALSE)),0,VLOOKUP(H55,mp,2,FALSE)) -> 0
B56: =IF(ISERROR(VLOOKUP(H56,mp,2,FALSE)),0,VLOOKUP(H56,mp,2,FALSE)) -> 0
B57: =IF(ISERROR(VLOOKUP(H57,mp,2,FALSE)),0,VLOOKUP(H57,mp,2,FALSE)) -> 0
B58: =IF(ISERROR(VLOOKUP(H58,mp,2,FALSE)),0,VLOOKUP(H58,mp,2,FALSE)) -> 0
B59: =IF(ISERROR(VLOOKUP(H59,mp,2,FALSE)),0,VLOOKUP(H59,mp,2,FALSE)) -> 0
B60: =IF(ISERROR(VLOOKUP(H60,mp,2,FALSE)),0,VLOOKUP(H60,mp,2,FALSE)) -> 0
B61: TOTAL | BG61: =IF(OR(AND(SUM(BG48:BK60)=1000,BA40=""),SUM(BG48:BK60)=$BC$42),SUM(BG48:BK60),"ERRO") -> 0
A62: 5 - GARANTIAS OBRIGATÓRIAS A CONSTAR NO CERTIFICADO DE REGISTRO DO PRODUTO
B63: CÓDIGO | G63: DENOMINAÇÃO | AB63: QUANT. | AH63: CÓDIGO | AM63: DENOMINAÇÃO | BH63: QUANT.
B64: =IF(G64=0," ",VLOOKUP(G64,garb,2)) -> 21 | G64: P2O5 SOLUVEL EM CNA+AGUA | AB64: 41 | AH64: =IF(AM64=0," ",VLOOKUP(AM64,garb,2))
B65: =IF(G65=0," ",VLOOKUP(G65,garb,2)) -> 23 | G65: P2O5 SOLUVEL EM AGUA | AB65: 36 | AH65: =IF(AM65=0," ",VLOOKUP(AM65,garb,2))
B66: =IF(G66=0," ",VLOOKUP(G66,garb,2)) -> 30 | G66: CALCIO | AB66: 10 | AH66: =IF(AM66=0," ",VLOOKUP(AM66,garb,2))
B67: =IF(G67=0," ",VLOOKUP(G67,garb,2)) | AH67: =IF(AM67=0," ",VLOOKUP(AM67,garb,2))
B68: =IF(G68=0," ",VLOOKUP(G68,garb,2)) | AH68: =IF(AM68=0," ",VLOOKUP(AM68,garb,2))
B69: =IF(G69=0," ",VLOOKUP(G69,garb,2)) | AH69: =IF(AM69=0," ",VLOOKUP(AM69,garb,2))
B71: INOCULANTES
B72: Nº DA ESTIRPE NA COLEÇÃO OFICIAL | AQ72: CONCENTRAÇÃO (Células/g ou ml)
B75: DOSAGEM (ml ou g/50 Kg sementes) | W75: CULTURA A QUE SE DESTINA
A79: 6 - PARA PRODUTO IMPORTADO, INFORMAR TAMBÉM:
B80: CÓDIGO PAÍS | J80: NOME DO PAÍS DE ORIGEM | AC80: NOME DA EMPRESA PRODUTORA
B81: =IF(J81=0," ",VLOOKUP(J81,pa,2))
B82: Anexar certificado de análise, certificado de registro ou de livre comércio, emitidos por órgão competente do país de origem.
B85: ( X ) | D85: Declaramos que não possuímos e nem solicitamos, em nenhuma outra filial da empresa, o registro de produto acima especificado
AF89: Assinatura do Responsável
AG91: Nome: | AJ91: Fulano de Tal
AG92: Cargo/Função: | AM92: Responsável Técnico
A94: 7 - ANÁLISE DO REQUERIMENTO DE REGISTRO | X94: USO EXCLUSIVO DO MINISTÉRIO
B96: ( ) | D96: Indeferido. Motivo -
B98: ( ) | D98: Opinamos pela concessão deste registro, visto que atende a legislação em vigor.
AJ99: Assinatura e Carimbo do Fiscal
B100: Data do Despacho
F101: ___/___/____

Sheet Exemplo FMM
A1: Instruções para o Preenchimento deste Formulário de Requerimento:
A2: - Prencher todos os campos necessários;
A3: - As células que contém opções pré-definidas, ao serem selecionadas, apresentam uma seta no lado direito da mesma, que abre a caixa Dropdown;
A4: - Ler atentamente os comentários que aparecem ao se colocar o mouse sobre determinas células (células com uma marca vermelha no canto superior direito);
A5: - Quando o ítem é selecionado na caixa de listagem, o código é preenchido automaticamente no respectivo campo. Quando não houver o ítem na lista, deixar o campo do código em branco;
A6: - Observar os Exemplos constantes nas planilhas Exemplo FMS (Fertilizante Mineral Simples) e Exemplo FMM (Fertilizante Mineral Misto);
A12: MINISTÉRIO DA AGRICULTURA, PECUÁRIA E DO ABASTECIMENTO | AQ12: REGISTRO DE PRODUTO
A13: SUPERINTENDÊNCIA FEDERAL DE AGRICULTURA
A14: REQUERIMENTO DE REGISTRO DE PRODUTO
AQ16: USO EXCLUSIVO DO MAPA
A19: 1 - IDENTIFICAÇÃO DO ESTABELECIMENTO PRODUTOR ou IMPORTADOR
A20: NOME OU NOME EMPRESARIAL | AW20: REGISTRO DO ESTABELECIMENTO
B21: FICB Fertilizantes Ltda. | AW21: RS 00000-0
B22: ENDEREÇO DO ESTABELECIMENTO | AO22: MUNICÍPIO | BI22: UF
B23: Av. XYZ, n. 123
B24: CNPJ | P24: E-MAIL | AU24: FONE:
B25: 00.000.000/0000-00 | P25: ficb@fic.com.br | AU25: (51) 12001200
CO27: CLASSIFICAÇÃO DE PRODUTOS
A28: 2 - IDENTIFICAÇÃO DO PRODUTO
B30: CÓDIGO | H30: CLASSIFICAÇÃO
B31: =IF(H31=0," ",VLOOKUP(H31,prod,2,0)) -> 7981 | H31: Fertilizante Mineral Misto
B32: SE MINERAL SIMPLES, O NOME DESTE CONFORME ANEXO I DA IN Nº 39/2018
B33: CÓDIGO | I33: NOME
B34: =IF(I34=0," ",VLOOKUP(I34,fsimples,2,0))
A36: 3 - CARACTERIZAÇÃO DO PRODUTO
A38: CÓDIGO | F38: MODO DE APLICAÇÃO | AC38: CÓDIGO | AF38: NATUREZA FÍSICA | AO38: PRODUTO PRONTO USO | BA38: DENSIDADE DO FLUIDO
B40: =IF(F40=0," ",VLOOKUP(F40,ma,2,0)) -> 2 | F40: Via Solo | AB40: =IF(AF40=0," ",VLOOKUP(AF40,nf,2)) -> 18 | AF40: Sólido | AR40: SIM | AU40: x | AV40: NÃO
B42: =IF(F42=0," ",VLOOKUP(F42,ma,2,0)) | BC42: =1000*BA40 -> 0
B44: =IF(F44=0," ",VLOOKUP(F44,ma,2,0))
A46: 4 - MATÉRIAS PRIMAS/COMPONENTES (COMPOSIÇÃO EM PARTES POR MIL)
A47: CÓDIGO | B47: CÓDIGO | J47: DENOMINAÇÃO | AO47: TEORES DE NUTRIENTES | BI47: Kg / tonelada
B48: =IF(ISERROR(VLOOKUP(H48,mp,2,FALSE)),0,VLOOKUP(H48,mp,2,FALSE)) -> 1121 | H48: SULFATO DE AMONIO | AN48: 20% N; 22% S | BG48: 250
B49: =IF(ISERROR(VLOOKUP(H49,mp,2,FALSE)),0,VLOOKUP(H49,mp,2,FALSE)) -> 1171 | H49: CLORETO DE POTASSIO | AN49: 60% K2O | BG49: 250
B50: =IF(ISERROR(VLOOKUP(H50,mp,2,FALSE)),0,VLOOKUP(H50,mp,2,FALSE)) -> 1152 | H50: SUPERFOSFATO TRIPLO | AN50: 41%P2O5(CNA+H2O); 36%P2O5 (H2O); 10%Ca | BG50: 500
B51: =IF(ISERROR(VLOOKUP(H51,mp,2,FALSE)),0,VLOOKUP(H51,mp,2,FALSE)) -> 0
B52: =IF(ISERROR(VLOOKUP(H52,mp,2,FALSE)),0,VLOOKUP(H52,mp,2,FALSE)) -> 0
B53: =IF(ISERROR(VLOOKUP(H53,mp,2,FALSE)),0,VLOOKUP(H53,mp,2,FALSE)) -> 0
B54: =IF(ISERROR(VLOOKUP(H54,mp,2,FALSE)),0,VLOOKUP(H54,mp,2,FALSE)) -> 0
B55: =IF(ISERROR(VLOOKUP(H55,mp,2,FALSE)),0,VLOOKUP(H55,mp,2,FALSE)) -> 0
B56: =IF(ISERROR(VLOOKUP(H56,mp,2,FALSE)),0,VLOOKUP(H56,mp,2,FALSE)) -> 0
B57: =IF(ISERROR(VLOOKUP(H57,mp,2,FALSE)),0,VLOOKUP(H57,mp,2,FALSE)) -> 0
B58: =IF(ISERROR(VLOOKUP(H58,mp,2,FALSE)),0,VLOOKUP(H58,mp,2,FALSE)) -> 0
B59: =IF(ISERROR(VLOOKUP(H59,mp,2,FALSE)),0,VLOOKUP(H59,mp,2,FALSE)) -> 0
B60: =IF(ISERROR(VLOOKUP(H60,mp,2,FALSE)),0,VLOOKUP(H60,mp,2,FALSE)) -> 0
B61: TOTAL | BG61: =IF(OR(AND(SUM(BG48:BK60)=1000,BA40=""),SUM(BG48:BK60)=$BC$42),SUM(BG48:BK60),"ERRO") -> 1000
A62: 5 - GARANTIAS OBRIGATÓRIAS A CONSTAR NO CERTIFICADO DE REGISTRO DO PRODUTO
B63: CÓDIGO | G63: DENOMINAÇÃO | AB63: QUANT. | AH63: CÓDIGO | AM63: DENOMINAÇÃO | BH63: QUANT.
B64: =IF(G64=0," ",VLOOKUP(G64,garb,2)) -> 10 | G64: NITROGENIO TOTAL | AB64: 5 | AH64: =IF(AM64=0," ",VLOOKUP(AM64,garb,2))
B65: =IF(G65=0," ",VLOOKUP(G65,garb,2)) -> 21 | G65: P2O5 SOLUVEL EM CNA+AGUA | AB65: 20 | AH65: =IF(AM65=0," ",VLOOKUP(AM65,garb,2))
B66: =IF(G66=0," ",VLOOKUP(G66,garb,2)) -> 24 | G66: OXIDO DE POTASSIO SOLUVEL EM AGUA | AB66: 15 | AH66: =IF(AM66=0," ",VLOOKUP(AM66,garb,2))
B67: =IF(G67=0," ",VLOOKUP(G67,garb,2)) | AH67: =IF(AM67=0," ",VLOOKUP(AM67,garb,2))
B68: =IF(G68=0," ",VLOOKUP(G68,garb,2)) | AH68: =IF(AM68=0," ",VLOOKUP(AM68,garb,2))
B69: =IF(G69=0," ",VLOOKUP(G69,garb,2)) | AH69: =IF(AM69=0," ",VLOOKUP(AM69,garb,2))
B71: INOCULANTES
B72: Nº DA ESTIRPE NA COLEÇÃO OFICIAL | AQ72: CONCENTRAÇÃO (Células/g ou ml)
B75: DOSAGEM (ml ou g/50 Kg sementes) | W75: CULTURA A QUE SE DESTINA
A79: 6 - PARA PRODUTO IMPORTADO, INFORMAR TAMBÉM:
B80: CÓDIGO PAÍS | J80: NOME DO PAÍS DE ORIGEM | AC80: NOME DA EMPRESA PRODUTORA
B81: =IF(J81=0," ",VLOOKUP(J81,pa,2))
B82: Anexar certificado de análise, certificado de registro ou de livre comércio, emitidos por órgão competente do país de origem.
B85: ( X ) | D85: Declaramos que não possuímos e nem solicitamos, em nenhuma outra filial da empresa, o registro de produto acima especificado
AF89: Assinatura do Responsável
AG91: Nome: | AJ91: Fulano de Tal
AG92: Cargo/Função: | AM92: Responsável Técnico
A94: 7 - ANÁLISE DO REQUERIMENTO DE REGISTRO | X94: USO EXCLUSIVO DO MINISTÉRIO
B96: ( ) | D96: Indeferido. Motivo -
B98: ( ) | D98: Opinamos pela concessão deste registro, visto que atende a legislação em vigor.
AJ99: Assinatura e Carimbo do Fiscal
B100: Data do Despacho
F101: ___/___/____

Sheet Produtos
A1: SIPE - Sistema Integrado de Produtos e Estabelecimentos
A2: Relação de Códigos para Registro de Produtos (07-04-17)
A4: Descrição | B4: Código
A5: Classificação do Produto
A6: Fertilizante Mineral Simples | B6: 2357
A7: Fertilizante Mineral Simples em Solução | B7: 15268
A8: Fertilizante Mineral Simples em Suspensão | B8: 15269
A9: Fertilizante Mineral Misto | B9: 7981
A10: Fertilizante Mineral Complexo | B10: 7982
A11: Fertilizante Orgânico Simples Classe A | B11: 7621
A12: Fertilizante Orgânico Simples Classe B | B12: 7622
A13: Fertilizante Orgânico Simples Classe C | B13: 7623
A14: Fertilizante Orgânico Simples Classe D | B14: 7624
A15: Fertilizante Orgânico Misto Classe A | B15: 7625
A16: Fertilizante Orgânico Misto Classe B | B16: 7626
A17: Fertilizante Orgânico Misto Classe C | B17: 7627
... A44: Biofertilizante | B44: 7656
A45: Natureza Física
A46: Fluido | B46: 7
A47: Sólido | B47: 18
A48: Modo de Aplicação
A49: Via Foliar | B49: 1
A50: Via Solo | B50: 2
A51: Via Fertirrigação | B51: 3
A52: Via Hidroponia | B52: 4
A53: Via Semente | B53: 5
A54: Via Foliar em solução para Pronto Uso | B54: 6
A55: Não se Aplica - Exclusivo "substratos p/ plantas" | B55: 99

Sheet F Simples
A1: SIPE - Sistema Integrado de Produtos e Estabelecimentos
A2: Relação de Códigos para Registro de Produtos (15/10/2018)
A3: no sipe oraflex: Relacao Produtos por Nome | B3: atualização de tabelas>nome dos produtos
A4: NOME DOS FERT. MINERAIS SIMPLES ANEXO I DA IN39/2018 | B4: CÓDIGO
A5: ACETATO DE AMÔNIO | B5: 189
A6: ACETATO DE CALCIO | B6: 1
A7: ACETATO DE COBALTO | B7: 2
A8: ACETATO DE COBRE | B8: 3
A9: ACETATO DE FERRO | B9: 4
A10: ACETATO DE MAGNESIO | B10: 5
A11: ACETATO DE MANGANES | B11: 6
A12: ACETATO DE POTASSIO | B12: 7
A13: ACETATO DE ZINCO | B13: 8
A14: ACIDO BORICO | B14: 9
A15: ACIDO FOSFÓRICO | B15: 190
A16: ACIDO FOSFOROSO | B16: 10
... A195: VERDETE (MÍN. 7% K2O) | B195: 165

Sheet Matérias-primas
A1: SIPE - Sistema Integrado de Produtos e Estabelecimentos
A2: Relação de Códigos das Matérias-primas dos Produtos (15/02/2019)
A4: Descrição | B4: Código
A5: ACETATO DE AMONIO | B5: 6205
A6: ACETATO DE CALCIO | B6: 6036
A7: ACETATO DE COBALTO | B7: 6037
A8: ACETATO DE COBRE | B8: 6038
A9: ACETATO DE FERRO | B9: 6039
A10: ACETATO DE MAGNESIO | B10: 6040
A11: ACETATO DE MANGANES | B11: 6041
A12: ACETATO DE POTASSIO | B12: 6042
A13: ACETATO DE ZINCO | B13: 6043
A14: ACETILACETONATOS | B14: 6213
A15: ACIDO 2 (3-CLOROFENOXI) PROPIONICO | B15: 5007
A16: ACIDO 5-SULFOSALICILICO | B16: 5075
... A387: GRANILHA | B387: 6008
A388: GUAR
A389: HBED | B389: 6388
A390: HEDTA (ACIDO ETILENODIAMINOTETRACETICO) | B390: 1741
A391: HEEDTA (HIDROXI-2-ETIL-ETILENO-DIAMINO-TRIACETICO) | B391: 6009
A392: HIDROBORACITA | B392: 1766
A393: HIDROXICARBOXÍLICOS E SEUS POLÍMEROS | B393: 1184
A394: HIDROXIDO DE AMÔNIO | B394: 1415
A395: HIDROXIDO DE CALCIO | B395: 1413
A396: HIDROXIDO DE CALCIO E MAGNESIO | B396: 6062
A397: HIDROXIDO DE MAGNESIO | B397: 6245
A398: HIDROXIDO DE POTASSIO | B398: 5021
A399: HIDROXIDO DE SODIO | B399: 5020
A400: HIPERFOSFATO NATURAL REATIVO | B400: 5057
... A645: ZINCO METALICO | B645: 6156

Sheet Garantias
A1: SIPE - Sistema Integrado de Produtos e Estabelecimentos
A2: Relação de Códigos das Garantias dos Produtos (10/12/2018)
A4: Descrição | B4: Código
A5: Ácidos Aspártico | B5: 857
A6: Ácidos Fúlvicos | B6: 842
A7: Ácidos Húmicos | B7: 260
A8: Aminoácidos Livres | B8: 855
A9: Arginina | B9: 858
A10: BORO TEOR SOLUVEL EM AGUA | B10: 822
A11: BORO TEOR TOTAL | B11: 60
A12: C/N - RELACAO CARBONO/NITROGENIO | B12: 170
A13: CALCIO | B13: 30
A14: CALCIO SOLUVEL EM AGUA | B14: 832
A15: CARBONO ORGANICO TOTAL | B15: 270
A16: CLORO TEOR SOLUVEL EM AGUA | B16: 823
A17: CLORO TEOR TOTAL | B17: 70
A18: COBALTO TEOR SOLUVEL EM AGUA | B18: 824
A19: COBALTO TEOR TOTAL | B19: 80
... A83: ZINCO TEOR TOTAL | B83: 130

Sheet Países
A1: SIPE - Sistema Integrado de Produtos e Estabelecimentos
A2: Relação de Códigos dos Países (05/12/2007)
A4: Descrição | B4: Código
A5: Africa Do Sul | B5: AFS
A6: Albania | B6: ALB
A7: Andorra | B7: AND
A8: Angola | B8: ANG
A9: Anguilla | B9: AGL
A10: Antigua | B10: ATG
A11: Antilhas Holandesas | B11: ATH
A12: Arabia Saudita | B12: ARS
A13: Argelia | B13: ARL
A14: Argentina | B14: ARG
A15: Armenia | B15: ARM
... A220: Zona Canal Do Panama | B220: ZCP

Sheet Espécies
A1: Acacia angustissima
A2: Acacia auriculiformis
A3: Acacia decurrens
A4: Acacia farnesiana
A5: Acacia mangiun
A6: Acacia mearnsii
A7: Acacia podalyriaefolia
A8: Acacia saligna
A9: Acacia silicina
A10: Acosmium nitens
A11: Adesmia Latifolia
A12: Albizia lebbeck
... A109: Zea mays
