BEGIN:VCALENDAR
PRODID:brasil.gov.agenda
VERSION:1.0
BEGIN:VEVENT
DTSTART:20190410T200000Z
DTEND:20190410T210000Z
DCREATED:20190410T210232Z
UID:Compromisso-5167dac8b6d34112a7ca8f2c5e07891b
SEQUENCE:0
LAST-MODIFIED:20190410T210255Z
SUMMARY:Reunião com o Adido Agrícola Luís Henrique Barbosa da Silva ( baseado na Suíça)
DESCRIPTION:Visita de cortesia\;\n Assunto sobre adidância.
LOCATION:GAB. SCRI - sala 305
PRIORITY:3
TRANSP:0
END:VEVENT
END:VCALENDAR
