BEGIN:VCALENDAR
PRODID:brasil.gov.agenda
VERSION:1.0
BEGIN:VEVENT
DTSTART:20190410T140000Z
DTEND:20190410T143000Z
DCREATED:20190410T200343Z
UID:Compromisso-a39c75b2539b4b19a998d7fecdf7b68d
SEQUENCE:0
LAST-MODIFIED:20190410T200359Z
SUMMARY:Despacho Interno.
DESCRIPTION:Pagamentos Cartões do Governo Federal
LOCATION:GAB. SCRI
PRIORITY:3
TRANSP:0
END:VEVENT
END:VCALENDAR
