BEGIN:VCALENDAR
PRODID:brasil.gov.agenda
VERSION:1.0
BEGIN:VEVENT
DTSTART:20190410T143000Z
DTEND:20190410T150000Z
DCREATED:20190410T201258Z
UID:Compromisso-93a5b14056f94dac80f54354ac12baee
SEQUENCE:0
LAST-MODIFIED:20190410T201258Z
SUMMARY:Despacho Interno -
DESCRIPTION:Embrapa
LOCATION:GAB SCRI SALA 309
PRIORITY:3
TRANSP:0
END:VEVENT
END:VCALENDAR
