BEGIN:VCALENDAR
PRODID:brasil.gov.agenda
VERSION:1.0
BEGIN:VEVENT
DTSTART:20190408T183000Z
DTEND:20190408T200000Z
DCREATED:20190408T201458Z
UID:Compromisso-a8b09916dc784a80acf60a13ec4b88c7
SEQUENCE:0
LAST-MODIFIED:20190408T201510Z
SUMMARY:Sr. André Gruimarães - IPAM (Instituto de Pesquisa Ambiental da Amazônia)
LOCATION:GAB. SCRI
PRIORITY:3
TRANSP:0
END:VEVENT
END:VCALENDAR
