BEGIN:VCALENDAR
PRODID:brasil.gov.agenda
VERSION:1.0
BEGIN:VEVENT
DTSTART:20190408T130000Z
DTEND:20190408T140000Z
DCREATED:20190408T183313Z
UID:Compromisso-1ba59570f9c34fbe86cf4c615850590a
SEQUENCE:0
LAST-MODIFIED:20190408T183812Z
SUMMARY:Agenda Embaixador do Sri Lanka.
LOCATION:GAB. SCRI - sala 305
PRIORITY:3
TRANSP:0
END:VEVENT
END:VCALENDAR
