BEGIN:VCALENDAR
PRODID:brasil.gov.agenda
VERSION:1.0
BEGIN:VEVENT
DTSTART:20190403T180000Z
DTEND:20190403T190000Z
DCREATED:20190402T225345Z
UID:Compromisso-8798ef70f6c547cf961f8b8c491d49e6
SEQUENCE:0
LAST-MODIFIED:20190402T225351Z
SUMMARY:Reunião com JICA - Japan International Cooperation Agency
LOCATION:GABINETE / SDI
PRIORITY:3
TRANSP:0
END:VEVENT
END:VCALENDAR
