BEGIN:VCALENDAR
PRODID:brasil.gov.agenda
VERSION:1.0
BEGIN:VEVENT
DTSTART:20190329T140000Z
DTEND:20190329T150000Z
DCREATED:20190329T133811Z
UID:Compromisso-f61d42f7e9d34506b9db56b27d980bdf
SEQUENCE:0
LAST-MODIFIED:20190329T133846Z
SUMMARY:Reunião com o Diretor do Departamento de Promoção do Agronegócio\, Senhor Alexandre Ghisleni
DESCRIPTION:OMC e OGMs
LOCATION:GAB. SCRI - Sala 305
PRIORITY:3
TRANSP:0
END:VEVENT
END:VCALENDAR
