BEGIN:VCALENDAR
PRODID:brasil.gov.agenda
VERSION:1.0
BEGIN:VEVENT
DTSTART:20190327T180000Z
DTEND:20190327T190000Z
DCREATED:20190326T230312Z
UID:Compromisso-bf3deb7685b742f68bcc82236125514a
SEQUENCE:0
LAST-MODIFIED:20190326T230321Z
SUMMARY:Reunião com SE o Embaixador do Vietnã\, Sr. Do Ba Khoa
LOCATION:GAB. SCRI
PRIORITY:3
TRANSP:0
END:VEVENT
END:VCALENDAR
