BEGIN:VCALENDAR
PRODID:brasil.gov.agenda
VERSION:1.0
BEGIN:VEVENT
DTSTART:20190327T170000Z
DTEND:20190327T180000Z
DCREATED:20190326T225807Z
UID:Compromisso-042e90b557ba41cdaf13a3fc0bfd99f1
SEQUENCE:0
LAST-MODIFIED:20190326T225831Z
SUMMARY:Reunião com o Juliano Assunção (Diretor Executivo do CPI).
DESCRIPTION:: compreender melhor o que o terceiro setor espera da gest
 ão\, quais as pautas com que eles têm mais trabalhado e qual a expec
 tativa deles para os próximos anos com relação à produção susten
 tável no Brasil. Artigo em dezembro intitulado "Desafios financeiros 
 e propostas para a produção sustentável no Brasil".
LOCATION:GAB. SCRI
PRIORITY:3
TRANSP:0
END:VEVENT
END:VCALENDAR
