BEGIN:VCALENDAR
PRODID:brasil.gov.agenda
VERSION:1.0
BEGIN:VEVENT
DTSTART:20190325T120000Z
DTEND:20190325T123000Z
DCREATED:20190322T222402Z
UID:Compromisso-c676867fd13f466faad77034646ece59
SEQUENCE:0
LAST-MODIFIED:20190322T222455Z
SUMMARY:Visita delegação parlamentar da França\;
DESCRIPTION:I- Visão do Ministério da Agricultura sobre o tema do de
 senvolvimento sustentável \; II- qual o papel do desenvolvimento sust
 entável dentro da condução das negociações comerciais do Brasil.
LOCATION:Sala 305 - SCRI
PRIORITY:3
TRANSP:0
END:VEVENT
END:VCALENDAR
