BEGIN:VCALENDAR
PRODID:brasil.gov.agenda
VERSION:1.0
BEGIN:VEVENT
DTSTART:20190325T130000Z
DTEND:20190325T133000Z
DCREATED:20190322T222956Z
UID:Compromisso-85bdce8b5bff4b92b7ea6a73d481846e
SEQUENCE:0
LAST-MODIFIED:20190322T223047Z
SUMMARY:Prévia à reunião com a Ministra de Indústria\, Comércio e Investimentos da Nigéria\, Sra. Hajiya Aisha Abubakar
DESCRIPTION:Cooperação Agrícola
LOCATION:GAB. SCRI - sala 304
PRIORITY:3
TRANSP:0
END:VEVENT
END:VCALENDAR
