BEGIN:VCALENDAR
PRODID:brasil.gov.agenda
VERSION:1.0
BEGIN:VEVENT
DTSTART:20190325T150000Z
DTEND:20190325T153000Z
DCREATED:20190322T224214Z
UID:Compromisso-9ecf67af71f945ad8787c3e265e480ec
SEQUENCE:0
LAST-MODIFIED:20190322T224235Z
SUMMARY:Despacho Interno
DESCRIPTION:Procedimentos administrativos
LOCATION:Sala 309 - SCRI
PRIORITY:3
TRANSP:0
END:VEVENT
END:VCALENDAR
