BEGIN:VCALENDAR
PRODID:brasil.gov.agenda
VERSION:1.0
BEGIN:VEVENT
DTSTART:20180816T123000Z
DTEND:20180816T150200Z
DCREATED:20180816T190303Z
UID:Compromisso-05ee88950f0d4375b7ad4c40689962cb
SEQUENCE:0
LAST-MODIFIED:20180816T190303Z
SUMMARY:Despachos Internos
LOCATION:9º andar da Secretária Executiva
PRIORITY:3
TRANSP:0
END:VEVENT
END:VCALENDAR
