BEGIN:VCALENDAR
PRODID:brasil.gov.agenda
VERSION:1.0
BEGIN:VEVENT
DTSTART:20180611T173000Z
DTEND:20180611T213000Z
DCREATED:20180611T165909Z
UID:Compromisso-52b2d9b8f9d54a31bf7903722f3902d5
SEQUENCE:0
LAST-MODIFIED:20180611T165915Z
SUMMARY:Despachos Internos
LOCATION:9º andar da Secretária Executiva
PRIORITY:3
TRANSP:0
END:VEVENT
END:VCALENDAR
