BEGIN:VCALENDAR
PRODID:brasil.gov.agenda
VERSION:1.0
BEGIN:VEVENT
DTSTART:20170719T140000Z
DTEND:20170719T140000Z
DCREATED:20170719T131226Z
UID:Compromisso-720381680f6b4ee1aafb2e35e92d6719
SEQUENCE:0
LAST-MODIFIED:20170719T131300Z
SUMMARY:Audiência com José Carlos Rapacci - Presidente da MARS Petcare
LOCATION:Gabinete do Secretário Executivo\, 9º andar\, MAPA
PRIORITY:3
TRANSP:0
END:VEVENT
END:VCALENDAR
