BEGIN:VCALENDAR
PRODID:brasil.gov.agenda
VERSION:1.0
BEGIN:VEVENT
DTSTART:20250228T113000Z
DTEND:20250228T113000Z
DCREATED:20250402T134446Z
UID:Compromisso-951104d7432441a6b6a33fa70df2dc90
SEQUENCE:0
LAST-MODIFIED:20250402T134446Z
SUMMARY:Despachos internos
LOCATION:ABIN - Setor Policial Sul
PRIORITY:3
TRANSP:0
END:VEVENT
END:VCALENDAR
