BEGIN:VCALENDAR
PRODID:brasil.gov.agenda
VERSION:1.0
BEGIN:VEVENT
DTSTART:20250227T180000Z
DTEND:20250227T180000Z
DCREATED:20250402T134322Z
UID:Compromisso-9be2e3c6a5a7432bb2fd2c6eff646883
SEQUENCE:0
LAST-MODIFIED:20250402T134322Z
SUMMARY:Despachos internos
LOCATION:ABIN - Setor Policial Sul
PRIORITY:3
TRANSP:0
END:VEVENT
END:VCALENDAR
