BEGIN:VCALENDAR
PRODID:brasil.gov.agenda
VERSION:1.0
BEGIN:VEVENT
DTSTART:20230727T110000Z
DTEND:20230727T110000Z
DCREATED:20230905T191433Z
UID:Compromisso-ac7264f90f9e40a595d0fea72577582b
SEQUENCE:0
LAST-MODIFIED:20230905T191433Z
SUMMARY:Despachos internos
LOCATION:Abin - SPO Áerea 05
PRIORITY:3
TRANSP:0
END:VEVENT
END:VCALENDAR
