BEGIN:VCALENDAR
PRODID:brasil.gov.agenda
VERSION:1.0
BEGIN:VEVENT
DTSTART:20230207T150000Z
DTEND:20230207T153000Z
DCREATED:20230208T140912Z
UID:Compromisso-0f6bb108044740c795767079f2136d9e
SEQUENCE:0
LAST-MODIFIED:20230208T141323Z
SUMMARY:Despacho interno
LOCATION:Agência Brasileira de Cooperação (ABC)
PRIORITY:3
TRANSP:0
END:VEVENT
END:VCALENDAR
