BEGIN:VCALENDAR
PRODID:brasil.gov.agenda
VERSION:1.0
BEGIN:VEVENT
DTSTART:20230113T153000Z
DTEND:20230113T160000Z
DCREATED:20230113T202353Z
UID:Compromisso-871a29b253594abd945858334eccd5e6
SEQUENCE:0
LAST-MODIFIED:20230113T202353Z
SUMMARY:Despacho sobre cooperação técnica multilateral
LOCATION:Agência Brasileira de Cooperação (ABC)
PRIORITY:3
TRANSP:0
END:VEVENT
END:VCALENDAR
