BEGIN:VCALENDAR
PRODID:brasil.gov.agenda
VERSION:1.0
BEGIN:VEVENT
DTSTART:20221107T183000Z
DTEND:20221107T190000Z
DCREATED:20221109T184230Z
UID:Compromisso-2778fda6d14c441f9581084da764ae17
SEQUENCE:0
LAST-MODIFIED:20221109T184230Z
SUMMARY:Despacho sobre cooperação esportiva
LOCATION:Agência Brasileira de Cooperação (ABC)
PRIORITY:3
TRANSP:0
END:VEVENT
END:VCALENDAR
