Workbook

Sheet Resumo
A1: MODELO DE PROPOSTA DE PREÇO - Pregão Eletrônico nº /2026
A3: Nº Processo:
A4: Razão Social:
A5: Nome de Fantasia:
A6: Endereço:
A7: Telefone:
A8: E-mail:
A9: Objeto: Contratação de serviços especializados, contínuos e sob demanda, com dedicação exclusiva de mão de obra de Tecnologia de Informação–TI, para manutenção e desenvolvimento de soluções de TI com Práticas Ágeis, conforme demandas da CAPES.
A11: Grupo | B11: Item | C11: Perfil do Posto de Trabalho | D11: Qtd (Postos) | E11: Turno/Carga Horária | F11: Valor Remuneração do Posto | G11: Valor Mensal do Posto (R$) | H11: Fator-k do Posto | I11: Valor anual do posto | J11: Valor total (valor anual do posto x Qtd Postos) (R$)
A12: 1 | B12: 1 | C12: ='Desenvolvedor Sênior'!A15 -> Desenvolvedor de Software Sênior | D12: ='Desenvolvedor Sênior'!C15 -> 46 | E12: Diurno (8h) | F12: ='Desenvolvedor Sênior'!C32 -> 15750 | G12: =ROUND('Desenvolvedor Sênior'!C150,2) -> 32084.67 | H12: =ROUND(G12/F12,2) -> 2.04 | I12: =ROUND(G12*12,2) -> 385016.04 | J12: =ROUND(I12*D12,2) -> 17710738
B13: 2 | C13: ='Desenvolvedor Pleno'!A15 -> Desenvolvedor de Software Pleno | D13: ='Desenvolvedor Pleno'!C15 -> 23 | E13: Diurno (8h) | F13: ='Desenvolvedor Pleno'!C32 -> 10713.73 | G13: =ROUND('Desenvolvedor Pleno'!C150,2) -> 22291.92 | H13: =ROUND(G13/F13,2) -> 2.08 | I13: =ROUND(G13*12,2) -> 267503.04 | J13: =ROUND(I13*D13,2) -> 6152569.9
B14: 3 | C14: ='Desenvolvedor Júnior'!A15 -> Desenvolvedor de Software Júnior | D14: ='Desenvolvedor Júnior'!C15 -> 4 | E14: Diurno (8h) | F14: ='Desenvolvedor Júnior'!C32 -> 6500 | G14: =ROUND('Desenvolvedor Júnior'!C150,2) -> 14178.59 | H14: =ROUND(G14/F14,2) -> 2.18 | I14: =ROUND(G14*12,2) -> 170143.08 | J14: =ROUND(I14*D14,2) -> 680572.32
B15: 4 | C15: ='Desenvolvedor Mobile Sênior'!A15 -> Desenvolvedor de Software Mobile - Sênior | D15: ='Desenvolvedor Mobile Sênior'!C15 -> 2 | E15: Diurno (8h) | F15: ='Desenvolvedor Mobile Sênior'!C32 -> 15750 | G15: =ROUND('Desenvolvedor Mobile Sênior'!C150,2) -> 32084.67 | H15: =ROUND(G15/F15,2) -> 2.04 | I15: =ROUND(G15*12,2) -> 385016.04 | J15: =ROUND(I15*D15,2) -> 770032.08
B16: 5 | C16: ='Desenvolvedor Mobile Pleno '!A15 -> Desenvolvedor de Software Mobile - Pleno | D16: ='Desenvolvedor Mobile Pleno '!C15 -> 2 | E16: Diurno (8h) | F16: ='Desenvolvedor Mobile Pleno '!C32 -> 10713.73 | G16: =ROUND('Desenvolvedor Mobile Pleno '!C150,2) -> 22291.92 | H16: =ROUND(G16/F16,2) -> 2.08 | I16: =ROUND(G16*12,2) -> 267503.04 | J16: =ROUND(I16*D16,2) -> 535006.08
B17: 6 | C17: ='Líder Técnico '!A15 -> Líder Técnico de Desenvolvimento | D17: ='Líder Técnico '!C15 -> 8 | E17: Diurno (8h) | F17: ='Líder Técnico '!C32 -> 16966.67 | G17: =ROUND('Líder Técnico '!C150,2) -> 34450.42 | H17: =ROUND(G17/F17,2) -> 2.03 | I17: =ROUND(G17*12,2) -> 413405.04 | J17: =ROUND(I17*D17,2) -> 3307240.3
B18: 7 | C18: ='Engenheiro de IA'!A15 -> Engenheiro de IA – Sênior | D18: ='Engenheiro de IA'!C15 -> 3 | E18: Diurno (8h) | F18: ='Engenheiro de IA'!C32 -> 16500 | G18: =ROUND('Engenheiro de IA'!C150,2) -> 33543 | H18: =ROUND(G18/F18,2) -> 2.03 | I18: =ROUND(G18*12,2) -> 402516 | J18: =ROUND(I18*D18,2) -> 1207548
B19: 8 | C19: ='Analista UX-UI '!A15 -> Analista de UX/UI Sênior | D19: ='Analista UX-UI '!C15 -> 4 | E19: Diurno (8h) | F19: ='Analista UX-UI '!C32 -> 12516.67 | G19: =ROUND('Analista UX-UI '!C150,2) -> 25797.64 | H19: =ROUND(G19/F19,2) -> 2.06 | I19: =ROUND(G19*12,2) -> 309571.68 | J19: =ROUND(I19*D19,2) -> 1238286.7
B20: 9 | C20: ='Analista de Testes '!A15 -> Analista de Testes Sênior | D20: ='Analista de Testes '!C15 -> 4 | E20: Diurno (8h) | F20: ='Analista de Testes '!C32 -> 11081.16 | G20: =ROUND('Analista de Testes '!C150,2) -> 23006.37 | H20: =ROUND(G20/F20,2) -> 2.08 | I20: =ROUND(G20*12,2) -> 276076.44 | J20: =ROUND(I20*D20,2) -> 1104305.8
G21: TOTAL | J21: =SUM(J12:J20) -> 32706299
A23: Critério de julgamento da licitação é menor preço por grupo. Esta Proposta/Planilha refere-se ao Grupo 1.
A24: Valor Total do item em algarismos e por extenso:
A25: Prazo de validade da Proposta:
A26: Esta empresa DECLARA estar ciente de que a apresentação da presente proposta implica na plena aceitação das condições estabelecidas no Edital do Pregão Eletrônico nº /2026 e seus Anexos.

Sheet Desenvolvedor Sênior
A1: Profissional tipo 5
A2: PLANILHA DE CUSTOS E FORMAÇÃO DE PREÇO DE MÃO DE OBRA
A3: Número do Processo:
A4: Número da Licitação:
A5: Dia: às horas
A7: DISCRIMINAÇÃO
A8: B | B8: Município/UF
A9: C | B9: Ano Acordo, Conveção ou Sentença Normativa em Dissídio Coletivo | C9: Brasília/DF
A10: D | B10: Nome da Entidade Sindical | C10: DF000717/2025_CCT/2025/2026
A11: E | B11: Número de meses da execução contratual | C11: 12
A12: F | B12: Data-Base da Categoria (dia/mês/ano) | C12: 46143
A13: IDENTIFICAÇÃO DO SERVIÇO
A14: Tipo de Serviço | B14: Unidade de Medida | C14: Quantidade total a contratar (em função da unidade de medida)
A15: Desenvolvedor de Software Sênior | B15: Posto de trabalho | C15: 46
A18: 1. MÓDULOS
A19: Mão de obra
A20: Mão de obra vinculada à execução contratual
A21: Dados para composição dos custos referente a mão de obra
A22: 1 | B22: Tipo de serviço (mesmo serviço com características distintas) | C22: Desenvolvedor de Software Sênior
A23: 2 | B23: Classificação Brasileira de Ocupação(CBO) | C23: CBO 2124-25, 2123-20, 2124-05, 2624-10 1425-15 ou similar.
A24: 3 | B24: Salário | C24: 1728.89
A25: 4 | B25: Categoria Profissional (vinculada a execução contratual) | C25: Desenvolvedor de Software Sênior
A26: 5 | B26: Data-Base da Categoria (dia/mês/ano) | C26: 46143
A27: Nota (1) - Deverá ser elaborado um quadro para cada tipo de serviço.
A28: Nota (2)- A planilha será calculada considerando o valor mensal do empregado.
A30: Módulo 1 - Composição da Remuneração
A31: 1 | B31: Composição da Remuneração | C31: Valor (R$)
A32: A | B32: Salário Base | C32: 15750
A33: B | B33: Adicional de Periculosidade | C33: -
A34: C | B34: Adicional de Insalubridade | C34: -
A35: D | B35: Adicional Noturno | C35: -
A36: E | B36: Adicional de Hora Noturna Reduzida | C36: -
A37: F | B37: Outros (especificar) | C37: -
A38: Total | C38: =SUM(C32:C37) -> 15750
A39: Nota 1: O Módulo 1 refere-se ao valor mensal devido ao empregado pela prestação do serviço no período de 12 meses.
A41: Módulo 2 - Encargos e Benefícios Anuais, Mensais e Diários
A42: Submódulo 2.1 - 13º(décimo terceiro) Salário, Férias e Adicional de Férias
A43: 2.1 | B43: 13º(décimo terceiro) Salário, Férias e Adicional de Férias | C43: % | D43: VALOR (R$)
A44: A | B44: 13º(décimo terceiro) Salário | C44: 0.0833 | D44: =C44*C38 -> 1311.975
A45: B | B45: Férias e Adicional de Férias | C45: 0.121 | D45: =C45*C38 -> 1905.75
...

Sheet Desenvolvedor Pleno
A1: Profissional tipo 5
A2: PLANILHA DE CUSTOS E FORMAÇÃO DE PREÇO DE MÃO DE OBRA
A3: Número do Processo:
A4: Número da Licitação:
A5: Dia: às horas
A7: DISCRIMINAÇÃO
A8: B | B8: Município/UF
A9: C | B9: Ano Acordo, Conveção ou Sentença Normativa em Dissídio Coletivo | C9: Brasília/DF
A10: D | B10: Nome da Entidade Sindical | C10: DF000717/2025_CCT/2025/2026
A11: E | B11: Número de meses da execução contratual | C11: 12
A12: F | B12: Data-Base da Categoria (dia/mês/ano) | C12: 46143
A13: IDENTIFICAÇÃO DO SERVIÇO
A14: Tipo de Serviço | B14: Unidade de Medida | C14: Quantidade total a contratar (em função da unidade de medida)
A15: Desenvolvedor de Software Pleno | B15: Posto de trabalho | C15: 23
A18: 1. MÓDULOS
A19: Mão de obra
A20: Mão de obra vinculada à execução contratual
A21: Dados para composição dos custos referente a mão de obra
A22: 1 | B22: Tipo de serviço (mesmo serviço com características distintas) | C22: Desenvolvedor de Software Pleno
A23: 2 | B23: Classificação Brasileira de Ocupação(CBO) | C23: CBO 2124-25, 2123-20, 2124-05, 2624-10 1425-15 ou similar.
A24: 3 | B24: Salário | C24: 1728.89
A25: 4 | B25: Categoria Profissional (vinculada a execução contratual) | C25: Desenvolvedor de Software Pleno
A26: 5 | B26: Data-Base da Categoria (dia/mês/ano) | C26: 46143
A27: Nota (1) - Deverá ser elaborado um quadro para cada tipo de serviço.
A28: Nota (2)- A planilha será calculada considerando o valor mensal do empregado.
A30: Módulo 1 - Composição da Remuneração
A31: 1 | B31: Composição da Remuneração | C31: Valor (R$)
A32: A | B32: Salário Base | C32: 10713.73
A33: B | B33: Adicional de Periculosidade | C33: -
A34: C | B34: Adicional de Insalubridade | C34: -
A35: D | B35: Adicional Noturno | C35: -
A36: E | B36: Adicional de Hora Noturna Reduzida | C36: -
A37: F | B37: Outros (especificar) | C37: -
A38: Total | C38: =SUM(C32:C37) -> 10713.73
A39: Nota 1: O Módulo 1 refere-se ao valor mensal devido ao empregado pela prestação do serviço no período de 12 meses.
A41: Módulo 2 - Encargos e Benefícios Anuais, Mensais e Diários
A42: Submódulo 2.1 - 13º(décimo terceiro) Salário, Férias e Adicional de Férias
A43: 2.1 | B43: 13º(décimo terceiro) Salário, Férias e Adicional de Férias | C43: % | D43: VALOR (R$)
A44: A | B44: 13º(décimo terceiro) Salário | C44: 0.0833 | D44: =C44*C38 -> 892.45371
A45: B | B45: Férias e Adicional de Férias | C45: 0.121 | D45: =C45*C38 -> 1296.3613
...

Sheet Desenvolvedor Júnior
A1: Profissional tipo 5
A2: PLANILHA DE CUSTOS E FORMAÇÃO DE PREÇO DE MÃO DE OBRA
A3: Número do Processo:
A4: Número da Licitação:
A5: Dia: às horas
A7: DISCRIMINAÇÃO
A8: B | B8: Município/UF
A9: C | B9: Ano Acordo, Conveção ou Sentença Normativa em Dissídio Coletivo | C9: Brasília/DF
A10: D | B10: Nome da Entidade Sindical | C10: DF000717/2025_CCT/2025/2026
A11: E | B11: Número de meses da execução contratual | C11: 12
A12: F | B12: Data-Base da Categoria (dia/mês/ano) | C12: 46143
A13: IDENTIFICAÇÃO DO SERVIÇO
A14: Tipo de Serviço | B14: Unidade de Medida | C14: Quantidade total a contratar (em função da unidade de medida)
A15: Desenvolvedor de Software Júnior | B15: Posto de trabalho | C15: 4
A18: 1. MÓDULOS
A19: Mão de obra
A20: Mão de obra vinculada à execução contratual
A21: Dados para composição dos custos referente a mão de obra
A22: 1 | B22: Tipo de serviço (mesmo serviço com características distintas) | C22: Desenvolvedor de Software Júnior
A23: 2 | B23: Classificação Brasileira de Ocupação(CBO) | C23: CBO 2124-25, 2123-20, 2124-05, 2624-10 1425-15 ou similar.
A24: 3 | B24: Salário | C24: 1728.89
A25: 4 | B25: Categoria Profissional (vinculada a execução contratual) | C25: Desenvolvedor de Software Júnior
A26: 5 | B26: Data-Base da Categoria (dia/mês/ano) | C26: 46143
A27: Nota (1) - Deverá ser elaborado um quadro para cada tipo de serviço.
A28: Nota (2)- A planilha será calculada considerando o valor mensal do empregado.
A30: Módulo 1 - Composição da Remuneração
A31: 1 | B31: Composição da Remuneração | C31: Valor (R$)
A32: A | B32: Salário Base | C32: 6500
A33: B | B33: Adicional de Periculosidade | C33: -
A34: C | B34: Adicional de Insalubridade | C34: -
A35: D | B35: Adicional Noturno | C35: -
A36: E | B36: Adicional de Hora Noturna Reduzida | C36: -
A37: F | B37: Outros (especificar) | C37: -
A38: Total | C38: =SUM(C32:C37) -> 6500
A39: Nota 1: O Módulo 1 refere-se ao valor mensal devido ao empregado pela prestação do serviço no período de 12 meses.
A41: Módulo 2 - Encargos e Benefícios Anuais, Mensais e Diários
A42: Submódulo 2.1 - 13º(décimo terceiro) Salário, Férias e Adicional de Férias
A43: 2.1 | B43: 13º(décimo terceiro) Salário, Férias e Adicional de Férias | C43: % | D43: VALOR (R$)
A44: A | B44: 13º(décimo terceiro) Salário | C44: 0.0833 | D44: =C44*C38 -> 541.45
A45: B | B45: Férias e Adicional de Férias | C45: 0.121 | D45: =C45*C38 -> 786.5
...

Sheet Desenvolvedor Mobile Sênior
A1: Profissional tipo 5
A2: PLANILHA DE CUSTOS E FORMAÇÃO DE PREÇO DE MÃO DE OBRA
A3: Número do Processo:
A4: Número da Licitação:
A5: Dia: às horas
A7: DISCRIMINAÇÃO
A8: B | B8: Município/UF
A9: C | B9: Ano Acordo, Conveção ou Sentença Normativa em Dissídio Coletivo | C9: Brasília/DF
A10: D | B10: Nome da Entidade Sindical | C10: DF000717/2025_CCT/2025/2026
A11: E | B11: Número de meses da execução contratual | C11: 12
A12: F | B12: Data-Base da Categoria (dia/mês/ano) | C12: 46143
A13: IDENTIFICAÇÃO DO SERVIÇO
A14: Tipo de Serviço | B14: Unidade de Medida | C14: Quantidade total a contratar (em função da unidade de medida)
A15: Desenvolvedor de Software Mobile - Sênior | B15: Posto de trabalho | C15: 2
A18: 1. MÓDULOS
A19: Mão de obra
A20: Mão de obra vinculada à execução contratual
A21: Dados para composição dos custos referente a mão de obra
A22: 1 | B22: Tipo de serviço (mesmo serviço com características distintas) | C22: Desenvolvedor de Software Mobile - Sênior
A23: 2 | B23: Classificação Brasileira de Ocupação(CBO) | C23: CBO 2124-25, 2123-20, 2124-05, 2624-10 1425-15 ou similar.
A24: 3 | B24: Salário | C24: 1728.89
A25: 4 | B25: Categoria Profissional (vinculada a execução contratual) | C25: Desenvolvedor de Software Mobile - Sênior
A26: 5 | B26: Data-Base da Categoria (dia/mês/ano) | C26: 46143
A27: Nota (1) - Deverá ser elaborado um quadro para cada tipo de serviço.
A28: Nota (2)- A planilha será calculada considerando o valor mensal do empregado.
A30: Módulo 1 - Composição da Remuneração
A31: 1 | B31: Composição da Remuneração | C31: Valor (R$)
A32: A | B32: Salário Base | C32: 15750
A33: B | B33: Adicional de Periculosidade | C33: -
A34: C | B34: Adicional de Insalubridade | C34: -
A35: D | B35: Adicional Noturno | C35: -
A36: E | B36: Adicional de Hora Noturna Reduzida | C36: -
A37: F | B37: Outros (especificar) | C37: -
A38: Total | C38: =SUM(C32:C37) -> 15750
A39: Nota 1: O Módulo 1 refere-se ao valor mensal devido ao empregado pela prestação do serviço no período de 12 meses.
A41: Módulo 2 - Encargos e Benefícios Anuais, Mensais e Diários
A42: Submódulo 2.1 - 13º(décimo terceiro) Salário, Férias e Adicional de Férias
A43: 2.1 | B43: 13º(décimo terceiro) Salário, Férias e Adicional de Férias | C43: % | D43: VALOR (R$)
A44: A | B44: 13º(décimo terceiro) Salário | C44: 0.0833 | D44: =C44*C38 -> 1311.975
A45: B | B45: Férias e Adicional de Férias | C45: 0.121 | D45: =C45*C38 -> 1905.75
...

Sheet Desenvolvedor Mobile Pleno 
A1: Profissional tipo 5
A2: PLANILHA DE CUSTOS E FORMAÇÃO DE PREÇO DE MÃO DE OBRA
A3: Número do Processo:
A4: Número da Licitação:
A5: Dia: às horas
A7: DISCRIMINAÇÃO
A8: B | B8: Município/UF
A9: C | B9: Ano Acordo, Conveção ou Sentença Normativa em Dissídio Coletivo | C9: Brasília/DF
A10: D | B10: Nome da Entidade Sindical | C10: DF000717/2025_CCT/2025/2026
A11: E | B11: Número de meses da execução contratual | C11: 12
A12: F | B12: Data-Base da Categoria (dia/mês/ano) | C12: 46143
A13: IDENTIFICAÇÃO DO SERVIÇO
A14: Tipo de Serviço | B14: Unidade de Medida | C14: Quantidade total a contratar (em função da unidade de medida)
A15: Desenvolvedor de Software Mobile - Pleno | B15: Posto de trabalho | C15: 2
A18: 1. MÓDULOS
A19: Mão de obra
A20: Mão de obra vinculada à execução contratual
A21: Dados para composição dos custos referente a mão de obra
A22: 1 | B22: Tipo de serviço (mesmo serviço com características distintas) | C22: Desenvolvedor de Software Mobile - Pleno
A23: 2 | B23: Classificação Brasileira de Ocupação(CBO) | C23: CBO 2124-25, 2123-20, 2124-05, 2624-10 1425-15 ou similar.
A24: 3 | B24: Salário | C24: 1728.89
A25: 4 | B25: Categoria Profissional (vinculada a execução contratual) | C25: Desenvolvedor de Software Mobile - Pleno
A26: 5 | B26: Data-Base da Categoria (dia/mês/ano) | C26: 46143
A27: Nota (1) - Deverá ser elaborado um quadro para cada tipo de serviço.
A28: Nota (2)- A planilha será calculada considerando o valor mensal do empregado.
A30: Módulo 1 - Composição da Remuneração
A31: 1 | B31: Composição da Remuneração | C31: Valor (R$)
A32: A | B32: Salário Base | C32: 10713.73
A33: B | B33: Adicional de Periculosidade | C33: -
A34: C | B34: Adicional de Insalubridade | C34: -
A35: D | B35: Adicional Noturno | C35: -
A36: E | B36: Adicional de Hora Noturna Reduzida | C36: -
A37: F | B37: Outros (especificar) | C37: -
A38: Total | C38: =SUM(C32:C37) -> 10713.73
A39: Nota 1: O Módulo 1 refere-se ao valor mensal devido ao empregado pela prestação do serviço no período de 12 meses.
A41: Módulo 2 - Encargos e Benefícios Anuais, Mensais e Diários
A42: Submódulo 2.1 - 13º(décimo terceiro) Salário, Férias e Adicional de Férias
A43: 2.1 | B43: 13º(décimo terceiro) Salário, Férias e Adicional de Férias | C43: % | D43: VALOR (R$)
A44: A | B44: 13º(décimo terceiro) Salário | C44: 0.0833 | D44: =C44*C38 -> 892.45371
A45: B | B45: Férias e Adicional de Férias | C45: 0.121 | D45: =C45*C38 -> 1296.3613
...

Sheet Líder Técnico 
A1: Profissional tipo 5
A2: PLANILHA DE CUSTOS E FORMAÇÃO DE PREÇO DE MÃO DE OBRA
A3: Número do Processo:
A4: Número da Licitação:
A5: Dia: às horas
A7: DISCRIMINAÇÃO
A8: B | B8: Município/UF
A9: C | B9: Ano Acordo, Conveção ou Sentença Normativa em Dissídio Coletivo | C9: Brasília/DF
A10: D | B10: Nome da Entidade Sindical | C10: DF000717/2025_CCT/2025/2026
A11: E | B11: Número de meses da execução contratual | C11: 12
A12: F | B12: Data-Base da Categoria (dia/mês/ano) | C12: 46143
A13: IDENTIFICAÇÃO DO SERVIÇO
A14: Tipo de Serviço | B14: Unidade de Medida | C14: Quantidade total a contratar (em função da unidade de medida)
A15: Líder Técnico de Desenvolvimento | B15: Posto de trabalho | C15: 8
A18: 1. MÓDULOS
A19: Mão de obra
A20: Mão de obra vinculada à execução contratual
A21: Dados para composição dos custos referente a mão de obra
A22: 1 | B22: Tipo de serviço (mesmo serviço com características distintas) | C22: Líder Técnico de Desenvolvimento
A23: 2 | B23: Classificação Brasileira de Ocupação(CBO) | C23: CBO 2124-25, 2123-20, 2124-05, 2624-10 1425-15 ou similar.
A24: 3 | B24: Salário | C24: 1728.89
A25: 4 | B25: Categoria Profissional (vinculada a execução contratual) | C25: Líder Técnico de Desenvolvimento
A26: 5 | B26: Data-Base da Categoria (dia/mês/ano) | C26: 46143
A27: Nota (1) - Deverá ser elaborado um quadro para cada tipo de serviço.
A28: Nota (2)- A planilha será calculada considerando o valor mensal do empregado.
A30: Módulo 1 - Composição da Remuneração
A31: 1 | B31: Composição da Remuneração | C31: Valor (R$)
A32: A | B32: Salário Base | C32: 16966.67
A33: B | B33: Adicional de Periculosidade | C33: -
A34: C | B34: Adicional de Insalubridade | C34: -
A35: D | B35: Adicional Noturno | C35: -
A36: E | B36: Adicional de Hora Noturna Reduzida | C36: -
A37: F | B37: Outros (especificar) | C37: -
A38: Total | C38: =SUM(C32:C37) -> 16966.67
A39: Nota 1: O Módulo 1 refere-se ao valor mensal devido ao empregado pela prestação do serviço no período de 12 meses.
A41: Módulo 2 - Encargos e Benefícios Anuais, Mensais e Diários
A42: Submódulo 2.1 - 13º(décimo terceiro) Salário, Férias e Adicional de Férias
A43: 2.1 | B43: 13º(décimo terceiro) Salário, Férias e Adicional de Férias | C43: % | D43: VALOR (R$)
A44: A | B44: 13º(décimo terceiro) Salário | C44: 0.0833 | D44: =C44*C38 -> 1413.3236
A45: B | B45: Férias e Adicional de Férias | C45: 0.121 | D45: =C45*C38 -> 2052.9671
...

Sheet Engenheiro de IA
A1: Profissional tipo 5
A2: PLANILHA DE CUSTOS E FORMAÇÃO DE PREÇO DE MÃO DE OBRA
A3: Número do Processo:
A4: Número da Licitação:
A5: Dia: às horas
A7: DISCRIMINAÇÃO
A8: B | B8: Município/UF
A9: C | B9: Ano Acordo, Conveção ou Sentença Normativa em Dissídio Coletivo | C9: Brasília/DF
A10: D | B10: Nome da Entidade Sindical | C10: DF000717/2025_CCT/2025/2026
A11: E | B11: Número de meses da execução contratual | C11: 12
A12: F | B12: Data-Base da Categoria (dia/mês/ano) | C12: 46143
A13: IDENTIFICAÇÃO DO SERVIÇO
A14: Tipo de Serviço | B14: Unidade de Medida | C14: Quantidade total a contratar (em função da unidade de medida)
A15: Engenheiro de IA – Sênior | B15: Posto de trabalho | C15: 3
A18: 1. MÓDULOS
A19: Mão de obra
A20: Mão de obra vinculada à execução contratual
A21: Dados para composição dos custos referente a mão de obra
A22: 1 | B22: Tipo de serviço (mesmo serviço com características distintas) | C22: Engenheiro de IA – Sênior
A23: 2 | B23: Classificação Brasileira de Ocupação(CBO) | C23: CBO 2124-25, 2123-20, 2124-05, 2624-10 1425-15 ou similar.
A24: 3 | B24: Salário | C24: 1728.89
A25: 4 | B25: Categoria Profissional (vinculada a execução contratual) | C25: Engenheiro de IA – Sênior
A26: 5 | B26: Data-Base da Categoria (dia/mês/ano) | C26: 46143
A27: Nota (1) - Deverá ser elaborado um quadro para cada tipo de serviço.
A28: Nota (2)- A planilha será calculada considerando o valor mensal do empregado.
A30: Módulo 1 - Composição da Remuneração
A31: 1 | B31: Composição da Remuneração | C31: Valor (R$)
A32: A | B32: Salário Base | C32: 16500
A33: B | B33: Adicional de Periculosidade | C33: -
A34: C | B34: Adicional de Insalubridade | C34: -
A35: D | B35: Adicional Noturno | C35: -
A36: E | B36: Adicional de Hora Noturna Reduzida | C36: -
A37: F | B37: Outros (especificar) | C37: -
A38: Total | C38: =SUM(C32:C37) -> 16500
A39: Nota 1: O Módulo 1 refere-se ao valor mensal devido ao empregado pela prestação do serviço no período de 12 meses.
A41: Módulo 2 - Encargos e Benefícios Anuais, Mensais e Diários
A42: Submódulo 2.1 - 13º(décimo terceiro) Salário, Férias e Adicional de Férias
A43: 2.1 | B43: 13º(décimo terceiro) Salário, Férias e Adicional de Férias | C43: % | D43: VALOR (R$)
A44: A | B44: 13º(décimo terceiro) Salário | C44: 0.0833 | D44: =C44*C38 -> 1374.45
A45: B | B45: Férias e Adicional de Férias | C45: 0.121 | D45: =C45*C38 -> 1996.5
...

Sheet Analista UX-UI 
A1: Profissional tipo 5
A2: PLANILHA DE CUSTOS E FORMAÇÃO DE PREÇO DE MÃO DE OBRA
A3: Número do Processo:
A4: Número da Licitação:
A5: Dia: às horas
A7: DISCRIMINAÇÃO
A8: B | B8: Município/UF
A9: C | B9: Ano Acordo, Conveção ou Sentença Normativa em Dissídio Coletivo | C9: Brasília/DF
A10: D | B10: Nome da Entidade Sindical | C10: DF000717/2025_CCT/2025/2026
A11: E | B11: Número de meses da execução contratual | C11: 12
A12: F | B12: Data-Base da Categoria (dia/mês/ano) | C12: 46143
A13: IDENTIFICAÇÃO DO SERVIÇO
A14: Tipo de Serviço | B14: Unidade de Medida | C14: Quantidade total a contratar (em função da unidade de medida)
A15: Analista de UX/UI Sênior | B15: Posto de trabalho | C15: 4
A18: 1. MÓDULOS
A19: Mão de obra
A20: Mão de obra vinculada à execução contratual
A21: Dados para composição dos custos referente a mão de obra
A22: 1 | B22: Tipo de serviço (mesmo serviço com características distintas) | C22: Analista de UX/UI Sênior
A23: 2 | B23: Classificação Brasileira de Ocupação(CBO) | C23: CBO 2124-25, 2123-20, 2124-05, 2624-10 1425-15 ou similar.
A24: 3 | B24: Salário | C24: 1728.89
A25: 4 | B25: Categoria Profissional (vinculada a execução contratual) | C25: Analista de UX/UI Sênior
A26: 5 | B26: Data-Base da Categoria (dia/mês/ano) | C26: 46143
A27: Nota (1) - Deverá ser elaborado um quadro para cada tipo de serviço.
A28: Nota (2)- A planilha será calculada considerando o valor mensal do empregado.
A30: Módulo 1 - Composição da Remuneração
A31: 1 | B31: Composição da Remuneração | C31: Valor (R$)
A32: A | B32: Salário Base | C32: 12516.67
A33: B | B33: Adicional de Periculosidade | C33: -
A34: C | B34: Adicional de Insalubridade | C34: -
A35: D | B35: Adicional Noturno | C35: -
A36: E | B36: Adicional de Hora Noturna Reduzida | C36: -
A37: F | B37: Outros (especificar) | C37: -
A38: Total | C38: =SUM(C32:C37) -> 12516.67
A39: Nota 1: O Módulo 1 refere-se ao valor mensal devido ao empregado pela prestação do serviço no período de 12 meses.
A41: Módulo 2 - Encargos e Benefícios Anuais, Mensais e Diários
A42: Submódulo 2.1 - 13º(décimo terceiro) Salário, Férias e Adicional de Férias
A43: 2.1 | B43: 13º(décimo terceiro) Salário, Férias e Adicional de Férias | C43: % | D43: VALOR (R$)
A44: A | B44: 13º(décimo terceiro) Salário | C44: 0.0833 | D44: =C44*C38 -> 1042.6386
A45: B | B45: Férias e Adicional de Férias | C45: 0.121 | D45: =C45*C38 -> 1514.5171
...

Sheet Analista de Testes 
A1: Profissional tipo 5
A2: PLANILHA DE CUSTOS E FORMAÇÃO DE PREÇO DE MÃO DE OBRA
A3: Número do Processo:
A4: Número da Licitação:
A5: Dia: às horas
A7: DISCRIMINAÇÃO
A8: B | B8: Município/UF
A9: C | B9: Ano Acordo, Conveção ou Sentença Normativa em Dissídio Coletivo | C9: Brasília/DF
A10: D | B10: Nome da Entidade Sindical | C10: DF000717/2025_CCT/2025/2026
A11: E | B11: Número de meses da execução contratual | C11: 12
A12: F | B12: Data-Base da Categoria (dia/mês/ano) | C12: 46143
A13: IDENTIFICAÇÃO DO SERVIÇO
A14: Tipo de Serviço | B14: Unidade de Medida | C14: Quantidade total a contratar (em função da unidade de medida)
A15: Analista de Testes Sênior | B15: Posto de trabalho | C15: 4
A18: 1. MÓDULOS
A19: Mão de obra
A20: Mão de obra vinculada à execução contratual
A21: Dados para composição dos custos referente a mão de obra
A22: 1 | B22: Tipo de serviço (mesmo serviço com características distintas) | C22: Analista de Testes Sênior
A23: 2 | B23: Classificação Brasileira de Ocupação(CBO) | C23: CBO 2124-25, 2123-20, 2124-05, 2624-10 1425-15 ou similar.
A24: 3 | B24: Salário | C24: 1728.89
A25: 4 | B25: Categoria Profissional (vinculada a execução contratual) | C25: Analista de Testes Sênior
A26: 5 | B26: Data-Base da Categoria (dia/mês/ano) | C26: 46143
A27: Nota (1) - Deverá ser elaborado um quadro para cada tipo de serviço.
A28: Nota (2)- A planilha será calculada considerando o valor mensal do empregado.
A30: Módulo 1 - Composição da Remuneração
A31: 1 | B31: Composição da Remuneração | C31: Valor (R$)
A32: A | B32: Salário Base | C32: 11081.16
A33: B | B33: Adicional de Periculosidade | C33: -
A34: C | B34: Adicional de Insalubridade | C34: -
A35: D | B35: Adicional Noturno | C35: -
A36: E | B36: Adicional de Hora Noturna Reduzida | C36: -
A37: F | B37: Outros (especificar) | C37: -
A38: Total | C38: =SUM(C32:C37) -> 11081.16
A39: Nota 1: O Módulo 1 refere-se ao valor mensal devido ao empregado pela prestação do serviço no período de 12 meses.
A41: Módulo 2 - Encargos e Benefícios Anuais, Mensais e Diários
A42: Submódulo 2.1 - 13º(décimo terceiro) Salário, Férias e Adicional de Férias
A43: 2.1 | B43: 13º(décimo terceiro) Salário, Férias e Adicional de Férias | C43: % | D43: VALOR (R$)
A44: A | B44: 13º(décimo terceiro) Salário | C44: 0.0833 | D44: =C44*C38 -> 923.06063
A45: B | B45: Férias e Adicional de Férias | C45: 0.121 | D45: =C45*C38 -> 1340.8204
...
